BEGIN:VCALENDAR
VERSION:2.0
PRODID:-//ChamberMaster//Event Calendar 2.0//EN
METHOD:PUBLISH
X-PUBLISHED-TTL:P1H
REFRESH-INTERVAL:P1H
CALSCALE:GREGORIAN
BEGIN:VTIMEZONE
TZID:America/Chicago
BEGIN:DAYLIGHT
RRULE:FREQ=YEARLY;BYMONTH=3;BYDAY=2SU
DTSTART:20070101T000000
TZOFFSETFROM:-0600
TZOFFSETTO:-0500
TZNAME:Central Daylight Time
END:DAYLIGHT
BEGIN:STANDARD
RRULE:FREQ=YEARLY;BYMONTH=11;BYDAY=1SU
DTSTART:20070101T000000
TZOFFSETFROM:-0500
TZOFFSETTO:-0600
TZNAME:Central Standard Time
END:STANDARD
END:VTIMEZONE
BEGIN:VEVENT
DTSTART;TZID=America/Chicago:20270318T080000
DTEND;TZID=America/Chicago:20270318T090000
X-MICROSOFT-CDO-ALLDAYEVENT:FALSE
SUMMARY:Board of Directors Meeting
DESCRIPTION:The current elected Directors of the Chamber Board generally meet monthly. A minimum of six (6) meetings per calendar year. Board Directors must meet eligibility requirements including but not limited to supporting the Chamber through practices that promote recruitment of new members\, retention of existing members\, and advocating for the mission of the Chamber. Elections for the Board are held annually in December\, early application is required. Interested members may contact the Chamber office for more information on the election process.
X-ALT-DESC;FMTTYPE=text/html:The current elected Directors of the Chamber Board generally meet monthly. A minimum of six (6) meetings per calendar year. Board Directors must meet eligibility requirements including but not limited to supporting the Chamber through practices that promote recruitment of new members\, retention of existing members\, and advocating for the mission of the Chamber. Elections for the Board are held annually in December\, early application is required. Interested members may contact the Chamber office for more information on the election process.
LOCATION:26 West Countryside Parkway Yorkville IL 60560
UID:e.3667.1106944
SEQUENCE:3
DTSTAMP:20260420T111145Z
URL:https://yorkvilleareachamberofcommerce.growthzoneapp.com/green-connect-events/Details/board-of-directors-meeting-1281758?sourceTypeId=Hub
END:VEVENT
END:VCALENDAR
