BEGIN:VCALENDAR
VERSION:2.0
PRODID:-//ChamberMaster//Event Calendar 2.0//EN
METHOD:PUBLISH
X-PUBLISHED-TTL:P1H
REFRESH-INTERVAL:P1H
CALSCALE:GREGORIAN
BEGIN:VTIMEZONE
TZID:America/Chicago
BEGIN:DAYLIGHT
RRULE:FREQ=YEARLY;BYMONTH=3;BYDAY=2SU
DTSTART:20070101T000000
TZOFFSETFROM:-0600
TZOFFSETTO:-0500
TZNAME:Central Daylight Time
END:DAYLIGHT
BEGIN:STANDARD
RRULE:FREQ=YEARLY;BYMONTH=11;BYDAY=1SU
DTSTART:20070101T000000
TZOFFSETFROM:-0500
TZOFFSETTO:-0600
TZNAME:Central Standard Time
END:STANDARD
END:VTIMEZONE
BEGIN:VEVENT
DTSTART;TZID=America/Chicago:20270316T103000
DTEND;TZID=America/Chicago:20270316T113000
X-MICROSOFT-CDO-ALLDAYEVENT:FALSE
SUMMARY:Business Women Connect
DESCRIPTION:Business Women Connect is a round table group that meets monthly for the purpose of supporting one another in business\, exchanging ideas\, and working to enhance the local business community. Attendees are encouraged to arrive at 10:00am for an extra 30 minutes of networking prior to the meeting. If you are interested in connecting with this group\, please join us for our next meeting. This month's location: TBABreakfast Sponsored: TBA**Participation in the Business Women Connect group is a YACC member benefit and only open to current chamber members in good standing. Members and non-members may visit the group two times before deciding to join. There are no additional annual dues to participate in the Business Women Connect group\, YACC membership is required. For more information about a chamber membership\, visit https://www.yorkvillechamber.org/become-a-member/For more information about Business Women Connect\, visit https://www.yorkvillechamber.org/business-women-connect/
X-ALT-DESC;FMTTYPE=text/html:<!DOCTYPE html><html><head><title></title></head><body aria-disabled="false"><p>Business Women Connect is a round table group that meets monthly for the purpose of supporting one another in business\, exchanging ideas\, and working to enhance the local business community. Attendees are encouraged to arrive at 10:00am for an extra 30 minutes of networking prior to the meeting. If you are interested in connecting with this group\, please join us for our next meeting.&nbsp\;</p><p>This month&#39\;s location: TBA</p><p>Breakfast Sponsored: TBA</p><p>**Participation in the Business Women Connect group is a YACC member benefit and only open to current chamber members in good standing. Members and non-members may visit the group two times before deciding to join.&nbsp\;</p><p>There are no additional annual dues to participate in the Business Women Connect group\, YACC membership is required. For more information about a chamber membership\, visit <a fr-original-style="" href="https://www.yorkvillechamber.org/become-a-member/" style="user-select: auto\;">https://www.yorkvillechamber.org/become-a-member/</a></p><p>For more information about Business Women Connect\, visit <a fr-original-style="" href="https://www.yorkvillechamber.org/business-women-connect/" style="user-select: auto\;">https://www.yorkvillechamber.org/business-women-connect/</a></p></body></html>
LOCATION:
UID:e.3667.941905
SEQUENCE:3
DTSTAMP:20260420T111230Z
URL:https://yorkvilleareachamberofcommerce.growthzoneapp.com/green-connect-events/Details/business-women-connect-1070951?sourceTypeId=Hub
END:VEVENT
END:VCALENDAR
