BEGIN:VCALENDAR
VERSION:2.0
PRODID:-//ChamberMaster//Event Calendar 2.0//EN
METHOD:PUBLISH
X-PUBLISHED-TTL:P1H
REFRESH-INTERVAL:P1H
CALSCALE:GREGORIAN
BEGIN:VTIMEZONE
TZID:America/Chicago
BEGIN:DAYLIGHT
RRULE:FREQ=YEARLY;BYMONTH=3;BYDAY=2SU
DTSTART:20070101T000000
TZOFFSETFROM:-0600
TZOFFSETTO:-0500
TZNAME:Central Daylight Time
END:DAYLIGHT
BEGIN:STANDARD
RRULE:FREQ=YEARLY;BYMONTH=11;BYDAY=1SU
DTSTART:20070101T000000
TZOFFSETFROM:-0500
TZOFFSETTO:-0600
TZNAME:Central Standard Time
END:STANDARD
END:VTIMEZONE
BEGIN:VEVENT
DTSTART;TZID=America/Chicago:20270309T083000
DTEND;TZID=America/Chicago:20270309T093000
X-MICROSOFT-CDO-ALLDAYEVENT:FALSE
SUMMARY:Leads Ignite
DESCRIPTION:Leads Ignite meets the 2nd & 4th Tuesdays of the month at 8:30 am at the Yorkville Area Chamber of Commerce Office. To schedule a guest visit contact facilitator Arinne Dickson of Your Friend in Health.To learn more about Leads Ignite\, click HERE.
X-ALT-DESC;FMTTYPE=text/html:<!DOCTYPE html><html><head><title></title></head><body aria-disabled="false"><p>Leads Ignite meets the 2nd &amp\; 4th Tuesdays of the month at 8:30 am at the Yorkville Area Chamber of Commerce Office.&nbsp\;</p><p>To schedule a guest visit contact facilitator Arinne Dickson of <a fr-original-style="" href="https://business.yorkvillechamber.org/directory/Details/your-friend-in-health-3175129" style="user-select: auto\;">Your Friend in Health</a>.</p><p>To learn more about Leads Ignite\, click <a fr-original-style="" href="https://www.yorkvillechamber.org/leads-ignite/" style="user-select: auto\;">HERE</a>.</p></body></html>
LOCATION:26 W. Countryside Parkway Yorkville IL 60560
UID:e.3667.942003
SEQUENCE:3
DTSTAMP:20260420T111114Z
URL:https://yorkvilleareachamberofcommerce.growthzoneapp.com/green-connect-events/Details/leads-ignite-1071399?sourceTypeId=Hub
END:VEVENT
END:VCALENDAR
