BEGIN:VCALENDAR
VERSION:2.0
PRODID:-//ChamberMaster//Event Calendar 2.0//EN
METHOD:PUBLISH
X-PUBLISHED-TTL:P1H
REFRESH-INTERVAL:P1H
CALSCALE:GREGORIAN
BEGIN:VTIMEZONE
TZID:America/Chicago
BEGIN:DAYLIGHT
RRULE:FREQ=YEARLY;BYMONTH=3;BYDAY=2SU
DTSTART:20070101T000000
TZOFFSETFROM:-0600
TZOFFSETTO:-0500
TZNAME:Central Daylight Time
END:DAYLIGHT
BEGIN:STANDARD
RRULE:FREQ=YEARLY;BYMONTH=11;BYDAY=1SU
DTSTART:20070101T000000
TZOFFSETFROM:-0500
TZOFFSETTO:-0600
TZNAME:Central Standard Time
END:STANDARD
END:VTIMEZONE
BEGIN:VEVENT
DTSTART;TZID=America/Chicago:20270310T133000
DTEND;TZID=America/Chicago:20270310T143000
X-MICROSOFT-CDO-ALLDAYEVENT:FALSE
SUMMARY:Promotions Committee Meeting
DESCRIPTION:The Promotions Committee meets monthly (generally on the second Wednesday of the month) to review and plan Chamber programming\, activities\, and events including the Annual Dinner\, "Biz Boo" Business Trick-or-Treat\, New Teacher Welcome Breakfast and more. This committee is one of many fun and exciting opportunities to engage with fellow members and grow your network in a casual setting that simultaneously lends to the success of the Chamber. Interested in participating? Contact the Chamber office for more details.
X-ALT-DESC;FMTTYPE=text/html:<!DOCTYPE html><html><head><title></title></head><body aria-disabled="false"><p>The Promotions Committee meets monthly (generally on the second Wednesday of the month) to review and plan Chamber programming\, activities\, and events including the Annual Dinner\, &quot\;Biz Boo&quot\; Business Trick-or-Treat\, New Teacher Welcome Breakfast and more. This committee is one of many fun and exciting opportunities to engage with fellow members and grow your network in a casual setting that simultaneously lends to the success of the Chamber. Interested in participating? Contact the Chamber office for more details.</p></body></html>
LOCATION:26 West Countryside Parkway Yorkville IL 60560
UID:e.3667.1106936
SEQUENCE:3
DTSTAMP:20260420T111230Z
URL:https://yorkvilleareachamberofcommerce.growthzoneapp.com/green-connect-events/Details/promotions-committee-meeting-1281693?sourceTypeId=Hub
END:VEVENT
END:VCALENDAR
