BEGIN:VCALENDAR
VERSION:2.0
PRODID:-//ChamberMaster//Event Calendar 2.0//EN
METHOD:PUBLISH
X-PUBLISHED-TTL:P1H
REFRESH-INTERVAL:P1H
CALSCALE:GREGORIAN
BEGIN:VTIMEZONE
TZID:America/Chicago
BEGIN:DAYLIGHT
RRULE:FREQ=YEARLY;BYMONTH=3;BYDAY=2SU
DTSTART:20070101T000000
TZOFFSETFROM:-0600
TZOFFSETTO:-0500
TZNAME:Central Daylight Time
END:DAYLIGHT
BEGIN:STANDARD
RRULE:FREQ=YEARLY;BYMONTH=11;BYDAY=1SU
DTSTART:20070101T000000
TZOFFSETFROM:-0500
TZOFFSETTO:-0600
TZNAME:Central Standard Time
END:STANDARD
END:VTIMEZONE
BEGIN:VEVENT
DTSTART;TZID=America/Chicago:20260405T100000
DTEND;TZID=America/Chicago:20260405T170000
X-MICROSOFT-CDO-ALLDAYEVENT:FALSE
SUMMARY:Easter Brunch at Craft'd Yorkville - Sunday 4/5/26
DESCRIPTION:Sunday 4/5/26 with seatings from 10 AM - 3 PM. Reservations recommended. \n\n$49 per Adult \n$21 per Child (5-12 years old)\nFree for Children 4 & Under\n\nCall (630)318-0170 to reserve your table. Seats are limited.\n\nBrunch Buffet includes:\nTable Carving Station with Turkey\, Ham\, Salmon\, Omelette Station\, Cheese & Fruit Trays\, Shrimp Cocktail\, Bourbon Chicken\, plus a Dessert Station & other Breakfast favorites! \n\nDrink Specials \n$10 Bloody Marys \n$3 Mimosas
X-ALT-DESC;FMTTYPE=text/html:Sunday 4/5/26 with seatings from 10 AM - 3 PM. Reservations recommended. \n\n$49 per Adult \n$21 per Child (5-12 years old)\nFree for Children 4 & Under\n\nCall (630)318-0170 to reserve your table. Seats are limited.\n\nBrunch Buffet includes:\nTable Carving Station with Turkey\, Ham\, Salmon\, Omelette Station\, Cheese & Fruit Trays\, Shrimp Cocktail\, Bourbon Chicken\, plus a Dessert Station & other Breakfast favorites! \n\nDrink Specials \n$10 Bloody Marys \n$3 Mimosas
LOCATION:2075 Marketview Dr\, Yorkville Yorkville IL 60560
UID:e.3667.1415509
SEQUENCE:3
DTSTAMP:20260420T111317Z
URL:https://yorkvilleareachamberofcommerce.growthzoneapp.com/green-connect-events/Details/easter-brunch-at-craft-d-yorkville-sunday-4-5-26-1672979?sourceTypeId=Hub
END:VEVENT
END:VCALENDAR
