BEGIN:VCALENDAR
VERSION:2.0
PRODID:-//ChamberMaster//Event Calendar 2.0//EN
METHOD:PUBLISH
X-PUBLISHED-TTL:P1H
REFRESH-INTERVAL:P1H
CALSCALE:GREGORIAN
BEGIN:VTIMEZONE
TZID:America/Chicago
BEGIN:DAYLIGHT
RRULE:FREQ=YEARLY;BYMONTH=3;BYDAY=2SU
DTSTART:20070101T000000
TZOFFSETFROM:-0600
TZOFFSETTO:-0500
TZNAME:Central Daylight Time
END:DAYLIGHT
BEGIN:STANDARD
RRULE:FREQ=YEARLY;BYMONTH=11;BYDAY=1SU
DTSTART:20070101T000000
TZOFFSETFROM:-0500
TZOFFSETTO:-0600
TZNAME:Central Standard Time
END:STANDARD
END:VTIMEZONE
BEGIN:VEVENT
DTSTART;TZID=America/Chicago:20260625T130000
DTEND;TZID=America/Chicago:20260625T160000
X-MICROSOFT-CDO-ALLDAYEVENT:FALSE
SUMMARY:Electronic Recycling - Yorkville Location
DESCRIPTION:Electronic recycling event will be 06/25/26 from 1pm-4pm at the Yorkville Ace Hardware only. Contact Luke Fikejs at (815) 474-4711 with any questions.
X-ALT-DESC;FMTTYPE=text/html:Electronic recycling event will be 06/25/26 from 1pm-4pm at the Yorkville Ace Hardware only. Contact Luke Fikejs at (815) 474-4711 with any questions.
LOCATION:9620 Rt. 34 Yorkville IL 60560
UID:e.3667.1421055
SEQUENCE:3
DTSTAMP:20260420T111146Z
URL:https://yorkvilleareachamberofcommerce.growthzoneapp.com/green-connect-events/Details/electronic-recycling-yorkville-location-1680141?sourceTypeId=Hub
END:VEVENT
END:VCALENDAR
