BEGIN:VCALENDAR
VERSION:2.0
PRODID:-//ChamberMaster//Event Calendar 2.0//EN
METHOD:PUBLISH
X-PUBLISHED-TTL:P1H
REFRESH-INTERVAL:P1H
CALSCALE:GREGORIAN
BEGIN:VTIMEZONE
TZID:America/Chicago
BEGIN:DAYLIGHT
RRULE:FREQ=YEARLY;BYMONTH=3;BYDAY=2SU
DTSTART:20070101T000000
TZOFFSETFROM:-0600
TZOFFSETTO:-0500
TZNAME:Central Daylight Time
END:DAYLIGHT
BEGIN:STANDARD
RRULE:FREQ=YEARLY;BYMONTH=11;BYDAY=1SU
DTSTART:20070101T000000
TZOFFSETFROM:-0500
TZOFFSETTO:-0600
TZNAME:Central Standard Time
END:STANDARD
END:VTIMEZONE
BEGIN:VEVENT
DTSTART;TZID=America/Chicago:20260409T180000
DTEND;TZID=America/Chicago:20260409T200000
X-MICROSOFT-CDO-ALLDAYEVENT:FALSE
SUMMARY:Essential Oil 101: Benefits & Blending Basics
DESCRIPTION:a {    text-decoration: none\;    color: #464feb\; }\ntr th\, tr td {    border: 1px solid #e6e6e6\; }\ntr th {    background-color: #f5f5f5\; }\n\na {    text-decoration: none\;    color: #464feb\; }\ntr th\, tr td {    border: 1px solid #e6e6e6\; }\ntr th {    background-color: #f5f5f5\; }\n\na {    text-decoration: none\;    color: #464feb\; }\ntr th\, tr td {    border: 1px solid #e6e6e6\; }\ntr th {    background-color: #f5f5f5\; }\nEssential Oils for Natural Wellness   Workshop with Ann MarieDiscover how essential oils can support your body's systems in a natural\, botanical way! Join Ann Marie for a 2‑hour\, hands‑on class where you'll learn how essential oils work in the body and how they can be used to support a variety of health concerns.Each participant will have the opportunity to create their own rollerball or room spray to take home. Additional products will also be available for purchase.This event is co‑hosted by Nicole of the Yorkville Flower Shop come enjoy their beautifully remodeled space while you learn and create!Bring a friend! Space is limited\, so be sure to register to reserve your spot - $20/personRegistration Link: https://shorturl.at/Fr5k2
X-ALT-DESC;FMTTYPE=text/html:<!DOCTYPE html><html><head><title></title></head><body aria-disabled="false"><p><meta content="text/html\; charset=us-ascii" http-equiv="Content-Type"></p><style>\na {    text-decoration: none\;    color: #464feb\; }\ntr th\, tr td {    border: 1px solid #e6e6e6\; }\ntr th {    background-color: #f5f5f5\; }\n</style><style>\na {    text-decoration: none\;    color: #464feb\; }\ntr th\, tr td {    border: 1px solid #e6e6e6\; }\ntr th {    background-color: #f5f5f5\; }\n</style><p><meta content="text/html\; charset=us-ascii" http-equiv="Content-Type"></p><style>\na {    text-decoration: none\;    color: #464feb\; }\ntr th\, tr td {    border: 1px solid #e6e6e6\; }\ntr th {    background-color: #f5f5f5\; }\n</style><div style="font-family:'Segoe UI'\;font-size:14px\;font-style:normal\;font-weight:400\;line-height:20px\;"><p><strong fr-original-style="" style="font-weight: 700\;">Essential Oils for Natural Wellness &ndash\; Workshop with Ann Marie</strong></p><p>Discover how essential oils can support your body&rsquo\;s systems in a natural\, botanical way! Join Ann Marie for a 2‑hour\, hands‑on class where you&rsquo\;ll learn how essential oils work in the body and how they can be used to support a variety of health concerns.</p><p>Each participant will have the opportunity to create their own <strong fr-original-style="" style="font-weight: 700\;">rollerball or room spray</strong> to take home. Additional products will also be available for purchase.</p><p>This event is co‑hosted by Nicole of the <a fr-original-style="" href="https://business.yorkvillechamber.org/business-directory/Details/yorkville-flower-shop-4506232" style="text-decoration: none\; color: rgb(70\, 79\, 235)\; user-select: auto\;">Yorkville Flower Shop</a>&mdash\;come enjoy their beautifully remodeled space while you learn and create!</p><p><strong fr-original-style="" style="font-weight: 700\;">Bring a friend! Space is limited\, so be sure to register to reserve your spot - $20/person</strong></p><p><strong fr-original-style="" style="font-weight: 700\;">Registration Link:</strong> <a fr-original-style="" href="https://shorturl.at/Fr5k2" style="text-decoration: none\; color: rgb(70\, 79\, 235)\; user-select: auto\;">https://shorturl.at/Fr5k2</a></p></div></body></html>
LOCATION:216 S Bridge St Yorkville IL 60560
UID:e.3667.1423481
SEQUENCE:3
DTSTAMP:20260420T111232Z
URL:https://yorkvilleareachamberofcommerce.growthzoneapp.com/green-connect-events/Details/essential-oil-101-benefits-blending-basics-1683083?sourceTypeId=Hub
END:VEVENT
END:VCALENDAR
