BEGIN:VCALENDAR
VERSION:2.0
PRODID:-//ChamberMaster//Event Calendar 2.0//EN
METHOD:PUBLISH
X-PUBLISHED-TTL:P1H
REFRESH-INTERVAL:P1H
CALSCALE:GREGORIAN
BEGIN:VTIMEZONE
TZID:America/Chicago
BEGIN:DAYLIGHT
RRULE:FREQ=YEARLY;BYMONTH=3;BYDAY=2SU
DTSTART:20070101T000000
TZOFFSETFROM:-0600
TZOFFSETTO:-0500
TZNAME:Central Daylight Time
END:DAYLIGHT
BEGIN:STANDARD
RRULE:FREQ=YEARLY;BYMONTH=11;BYDAY=1SU
DTSTART:20070101T000000
TZOFFSETFROM:-0500
TZOFFSETTO:-0600
TZNAME:Central Standard Time
END:STANDARD
END:VTIMEZONE
BEGIN:VEVENT
DTSTART;TZID=America/Chicago:20260509T170000
DTEND;TZID=America/Chicago:20260509T220000
X-MICROSOFT-CDO-ALLDAYEVENT:FALSE
SUMMARY:KCCFP Enchanted Garden Gala
DESCRIPTION:Step into an evening of magic and purpose at our Spring 2026 Fill the Carts Enchanted Garden Gala. Your ticket helps support the Kendall County Community Food Pantry and directly impacts families and neighbors in need. Join us for a beautiful night filled with community\, generosity\, and celebration you'll be making a difference just by attending.We are also looking for sponsorship opportunities or raffle basket donations!
X-ALT-DESC;FMTTYPE=text/html:<!DOCTYPE html><html><head><title></title></head><body aria-disabled="false"><p style="box-sizing: inherit\; max-width: 100%\; color: rgb(14\, 14\, 93)\; width: 396px\; margin-inline: 0px !important\; font-family: Roboto\, Helvetica\, Arial\, sans-serif\; font-size: 14px\; font-style: normal\; font-variant-ligatures: normal\; font-variant-caps: normal\; font-weight: 400\; orphans: 2\; text-align: start\; text-indent: 0px\; text-transform: none\; widows: 2\; word-spacing: 0px\; -webkit-text-stroke-width: 0px\; white-space: normal\; background-color: rgb(255\, 255\, 255)\; text-decoration-thickness: initial\; text-decoration-style: initial\; text-decoration-color: initial\; letter-spacing: normal\; margin: 0px\; font-stretch: normal\; line-height: normal\; font-kerning: auto\; font-variant-alternates: normal\; font-variant-numeric: normal\; font-variant-east-asian: normal\; font-feature-settings: normal\;">Step into an evening of magic and purpose at our Spring 2026 Fill the Carts Enchanted Garden Gala. Your ticket helps support the Kendall County Community Food Pantry and directly impacts families and neighbors in need. Join us for a beautiful night filled with community\, generosity\, and celebration&mdash\;you&rsquo\;ll be making a difference just by attending.</p><p style="box-sizing: inherit\; max-width: 100%\; color: rgb(14\, 14\, 93)\; width: 396px\; margin-inline: 0px !important\; font-family: Roboto\, Helvetica\, Arial\, sans-serif\; font-size: 14px\; font-style: normal\; font-variant-ligatures: normal\; font-variant-caps: normal\; font-weight: 400\; orphans: 2\; text-align: start\; text-indent: 0px\; text-transform: none\; widows: 2\; word-spacing: 0px\; -webkit-text-stroke-width: 0px\; white-space: normal\; background-color: rgb(255\, 255\, 255)\; text-decoration-thickness: initial\; text-decoration-style: initial\; text-decoration-color: initial\; letter-spacing: normal\; margin: 0px\; font-stretch: normal\; line-height: normal\; font-kerning: auto\; font-variant-alternates: normal\; font-variant-numeric: normal\; font-variant-east-asian: normal\; font-feature-settings: normal\;">We are also looking for sponsorship opportunities or raffle basket donations!</p></body></html>
LOCATION:
UID:e.3667.1422088
SEQUENCE:3
DTSTAMP:20260420T111232Z
URL:https://yorkvilleareachamberofcommerce.growthzoneapp.com/green-connect-events/Details/kccfp-enchanted-garden-gala-1681486?sourceTypeId=Hub
END:VEVENT
END:VCALENDAR
